BEGIN:VCALENDAR
VERSION:2.0
PRODID:-//Dr. Cari Oneal - ECPv6.13.2.1//NONSGML v1.0//EN
CALSCALE:GREGORIAN
METHOD:PUBLISH
X-ORIGINAL-URL:https://drcarioneal.com
X-WR-CALDESC:Events for Dr. Cari Oneal
REFRESH-INTERVAL;VALUE=DURATION:PT1H
X-Robots-Tag:noindex
X-PUBLISHED-TTL:PT1H
BEGIN:VTIMEZONE
TZID:America/Denver
BEGIN:DAYLIGHT
TZOFFSETFROM:-0700
TZOFFSETTO:-0600
TZNAME:MDT
DTSTART:20230312T090000
END:DAYLIGHT
BEGIN:STANDARD
TZOFFSETFROM:-0600
TZOFFSETTO:-0700
TZNAME:MST
DTSTART:20231105T080000
END:STANDARD
END:VTIMEZONE
BEGIN:VEVENT
DTSTART;TZID=America/Denver:20231212T190000
DTEND;TZID=America/Denver:20231212T200000
DTSTAMP:20260419T105317
CREATED:20231017T171828Z
LAST-MODIFIED:20231017T172320Z
UID:3100-1702407600-1702411200@drcarioneal.com
SUMMARY:Swinger Lifestyle Group Coaching
DESCRIPTION:Event Type: Group coaching to troubleshoot sticking points related to playing in the Lifestyle. \nWhen: The 2nd Tuesday of each month @7-8pm MT. \nAvailable to: Students of any of my courses! This includes… \n\nHow to Make a Sexual Offer\nSex Positive Event Essentials\nSquirting Orgasms: From Myth to Mastery\n\nRSVP: Students\, keep an eye on your email inbox! This is FREE as part of your enrollment. \nNot a student yet? To improve your sex-savvy skills and join our monthly coaching calls\, use the links above to enroll in one of our sex-postive classes!
URL:https://drcarioneal.com/events/swinger-lifestyle-group-coaching/
ATTACH;FMTTYPE=image/jpeg:https://drcarioneal.com/wp-content/uploads/2023/10/pexels-min-an-853168-scaled.jpg
END:VEVENT
END:VCALENDAR