BEGIN:VCALENDAR
VERSION:2.0
PRODID:-//Dr. Cari Oneal - ECPv6.13.2.1//NONSGML v1.0//EN
CALSCALE:GREGORIAN
METHOD:PUBLISH
X-WR-CALNAME:Dr. Cari Oneal
X-ORIGINAL-URL:https://drcarioneal.com
X-WR-CALDESC:Events for Dr. Cari Oneal
REFRESH-INTERVAL;VALUE=DURATION:PT1H
X-Robots-Tag:noindex
X-PUBLISHED-TTL:PT1H
BEGIN:VTIMEZONE
TZID:UTC
BEGIN:STANDARD
TZOFFSETFROM:+0000
TZOFFSETTO:+0000
TZNAME:UTC
DTSTART:20170101T000000
END:STANDARD
END:VTIMEZONE
BEGIN:VEVENT
DTSTART;VALUE=DATE:20171017
DTEND;VALUE=DATE:20171018
DTSTAMP:20260419T220755
CREATED:20170804T173213Z
LAST-MODIFIED:20200813T025352Z
UID:1053-1508198400-1508284799@drcarioneal.com
SUMMARY:Sex in the Dark
DESCRIPTION:  \n  \n  \n  \n  \nSex In The Dark\nCari Oneal serves as a panel speaker for this fun and informative event where students can ask a professional anything.  It’s always fun to hear sexual trends and concerns from college students! Utah State University provides this support as part of their wellness and prevention campaign. 
URL:https://drcarioneal.com/events/sex-in-the-dark/
LOCATION:Utah State University\, Logan\, UT\, UT\, United States
ATTACH;FMTTYPE=image/png:https://drcarioneal.com/wp-content/uploads/2020/07/sex-dark-1.png
END:VEVENT
END:VCALENDAR