BEGIN:VCALENDAR
VERSION:2.0
PRODID:-//Dr. Cari Oneal - ECPv6.13.2.1//NONSGML v1.0//EN
CALSCALE:GREGORIAN
METHOD:PUBLISH
X-WR-CALNAME:Dr. Cari Oneal
X-ORIGINAL-URL:https://drcarioneal.com
X-WR-CALDESC:Events for Dr. Cari Oneal
REFRESH-INTERVAL;VALUE=DURATION:PT1H
X-Robots-Tag:noindex
X-PUBLISHED-TTL:PT1H
BEGIN:VTIMEZONE
TZID:America/Denver
BEGIN:DAYLIGHT
TZOFFSETFROM:-0700
TZOFFSETTO:-0600
TZNAME:MDT
DTSTART:20250309T090000
END:DAYLIGHT
BEGIN:STANDARD
TZOFFSETFROM:-0600
TZOFFSETTO:-0700
TZNAME:MST
DTSTART:20251102T080000
END:STANDARD
END:VTIMEZONE
BEGIN:VEVENT
DTSTART;TZID=America/Denver:20250520T190000
DTEND;TZID=America/Denver:20250520T210000
DTSTAMP:20260419T215608
CREATED:20250515T212126Z
LAST-MODIFIED:20250520T184316Z
UID:3274-1747767600-1747774800@drcarioneal.com
SUMMARY:Sex & Psychedelics
DESCRIPTION:Explore the intersection between two highly taboo topics\, why people mix them\, & gain informed best practices.\n \nJoin Dr. Cari Oneal for a thought-provoking and engaging conversation on the intersection of sex and psychedelics. This live talk invites you to participate in an open discussion\, share experiences\, and ask questions. Dr. Oneal will coach and inform throughout this dynamic session\, providing valuable insights and practical knowledge. \n  \nKey Takeaways: \n\nUncover reasons others (and maybe you) may mix sex & psychedelics.\nGain best practices and key considerations for success.\nLearn from real-time coaching and insights provided by Dr. Oneal.\nGain a balanced perspective on the responsibilities and potential benefits of these experiences.\n\n  \nDon’t miss this opportunity to delve into a fascinating topic with guidance from an expert. Sign up now to enhance your understanding and approach to sex and psychedelics in a responsible and informed way! \n\nThe Details:\nTuesday\, May 20th @ 7-9pm \nHosted by Risque Soiree \nRSVP Here: https://risquesoiree.com/events/77432 \n  \nAbout Dr. Cari Oneal\nCari Oneal\, PhD\, is a seasoned sex and relationship coach with over a decade of experience. Combining her expertise in brain science and human behavior\, she specializes in helping clients understand and rewire unwanted behaviors\, particularly those rooted in trauma or socialization. Her practice\, which integrates psychedelics\, neuroplasticity\, and personalized coaching techniques\, helps individuals overcome their most stuck places and achieve sustainable healing and growth. \nLearn more:\nNeuroplasticity & Plant Medicine https://wellness.drcarioneal.com/about \nSex\, Psychology & Relationships  www.drcarioneal.com \nPsychology Today https://www.psychologytoday.com/us/therapists/cari-oneal-sandy-ut/730902
URL:https://drcarioneal.com/events/sex-psychedelics-2/
CATEGORIES:Lifestyle,Psychology,Sex
ATTACH;FMTTYPE=image/png:https://drcarioneal.com/wp-content/uploads/2024/10/Orange-Pink-Retro-Creative-Corner-Email-Header-Instagram-Post-2.png
END:VEVENT
BEGIN:VEVENT
DTSTART;TZID=America/Denver:20250624T190000
DTEND;TZID=America/Denver:20250624T210000
DTSTAMP:20260419T215608
CREATED:20250520T184825Z
LAST-MODIFIED:20250520T184825Z
UID:3280-1750791600-1750798800@drcarioneal.com
SUMMARY:Sex & Psychedelics
DESCRIPTION:Explore the intersection between two highly taboo topics\, why people mix them\, & gain informed best practices.\n \nJoin Dr. Cari Oneal for a thought-provoking and engaging conversation on the intersection of sex and psychedelics. This live talk invites you to participate in an open discussion\, share experiences\, and ask questions. Dr. Oneal will coach and inform throughout this dynamic session\, providing valuable insights and practical knowledge. \n  \nKey Takeaways: \n\nUncover reasons others (and maybe you) may mix sex & psychedelics.\nGain best practices and key considerations for success.\nLearn from real-time coaching and insights provided by Dr. Oneal.\nGain a balanced perspective on the responsibilities and potential benefits of these experiences.\n\n  \nDon’t miss this opportunity to delve into a fascinating topic with guidance from an expert. Sign up now to enhance your understanding and approach to sex and psychedelics in a responsible and informed way! \n\nThe Details:\nTuesday\, June 24th @ 7-9pm \nHosted by Risque Soiree \nRSVP Here: https://risquesoiree.com/events/77433 \n  \nAbout Dr. Cari Oneal\nCari Oneal\, PhD\, is a seasoned sex and relationship coach with over a decade of experience. Combining her expertise in brain science and human behavior\, she specializes in helping clients understand and rewire unwanted behaviors\, particularly those rooted in trauma or socialization. Her practice\, which integrates psychedelics\, neuroplasticity\, and personalized coaching techniques\, helps individuals overcome their most stuck places and achieve sustainable healing and growth. \nLearn more:\nNeuroplasticity & Plant Medicine https://wellness.drcarioneal.com/about \nSex\, Psychology & Relationships  www.drcarioneal.com \nPsychology Today https://www.psychologytoday.com/us/therapists/cari-oneal-sandy-ut/730902
URL:https://drcarioneal.com/events/sex-psychedelics-4/
CATEGORIES:Lifestyle,Relationships,Sex
ATTACH;FMTTYPE=image/png:https://drcarioneal.com/wp-content/uploads/2024/10/Orange-Pink-Retro-Creative-Corner-Email-Header-Instagram-Post-2.png
END:VEVENT
END:VCALENDAR