BEGIN:VCALENDAR
VERSION:2.0
PRODID:-//Dr. Cari Oneal - ECPv6.13.2.1//NONSGML v1.0//EN
CALSCALE:GREGORIAN
METHOD:PUBLISH
X-ORIGINAL-URL:https://drcarioneal.com
X-WR-CALDESC:Events for Dr. Cari Oneal
REFRESH-INTERVAL;VALUE=DURATION:PT1H
X-Robots-Tag:noindex
X-PUBLISHED-TTL:PT1H
BEGIN:VTIMEZONE
TZID:America/Denver
BEGIN:DAYLIGHT
TZOFFSETFROM:-0700
TZOFFSETTO:-0600
TZNAME:MDT
DTSTART:20210314T090000
END:DAYLIGHT
BEGIN:STANDARD
TZOFFSETFROM:-0600
TZOFFSETTO:-0700
TZNAME:MST
DTSTART:20211107T080000
END:STANDARD
BEGIN:DAYLIGHT
TZOFFSETFROM:-0700
TZOFFSETTO:-0600
TZNAME:MDT
DTSTART:20220313T090000
END:DAYLIGHT
BEGIN:STANDARD
TZOFFSETFROM:-0600
TZOFFSETTO:-0700
TZNAME:MST
DTSTART:20221106T080000
END:STANDARD
BEGIN:DAYLIGHT
TZOFFSETFROM:-0700
TZOFFSETTO:-0600
TZNAME:MDT
DTSTART:20230312T090000
END:DAYLIGHT
BEGIN:STANDARD
TZOFFSETFROM:-0600
TZOFFSETTO:-0700
TZNAME:MST
DTSTART:20231105T080000
END:STANDARD
BEGIN:DAYLIGHT
TZOFFSETFROM:-0700
TZOFFSETTO:-0600
TZNAME:MDT
DTSTART:20240310T090000
END:DAYLIGHT
BEGIN:STANDARD
TZOFFSETFROM:-0600
TZOFFSETTO:-0700
TZNAME:MST
DTSTART:20241103T080000
END:STANDARD
BEGIN:DAYLIGHT
TZOFFSETFROM:-0700
TZOFFSETTO:-0600
TZNAME:MDT
DTSTART:20250309T090000
END:DAYLIGHT
BEGIN:STANDARD
TZOFFSETFROM:-0600
TZOFFSETTO:-0700
TZNAME:MST
DTSTART:20251102T080000
END:STANDARD
END:VTIMEZONE
BEGIN:VEVENT
DTSTART;VALUE=DATE:20250124
DTEND;VALUE=DATE:20250127
DTSTAMP:20260419T093007
CREATED:20241211T193328Z
LAST-MODIFIED:20241211T194222Z
UID:3228-1737676800-1737935999@drcarioneal.com
SUMMARY:Psychedelics in the Beehive
DESCRIPTION:Psychedelics in the Beehive is happening in January & I want you to come!\nThere will be lots of workshops\, vendors\, and fun psychedelic-related activities happening like concerts\, comedy show\, and even a Psychedelic Circus! \nAnd I’ll be on a panel talking about Sex & Psychedelics! \nLast year we had 3000 people attend and it was only a one day event! This year has expanded and I’m looking forward to enjoying all it has to offer myself. \n(Yes\, people come completely sober\, learn a lot\, have a great time and make new friends with like minded people). \nWhen you come\, make sure you find me & say Hello!\n\n\nGet your ticket here:\n https://psychedelicsinthebeehive.org/
URL:https://drcarioneal.com/events/psychedelics-in-the-beehive/
CATEGORIES:Dr. Cari Oneal Business,Podcasts,Psychology,Sex
ATTACH;FMTTYPE=image/png:https://drcarioneal.com/wp-content/uploads/2024/12/pib.png
END:VEVENT
BEGIN:VEVENT
DTSTART;VALUE=DATE:20250116
DTEND;VALUE=DATE:20250120
DTSTAMP:20260419T093007
CREATED:20241211T194808Z
LAST-MODIFIED:20241211T194844Z
UID:3238-1736985600-1737331199@drcarioneal.com
SUMMARY:Private Event: Sisterhood as an Act of Resistance
DESCRIPTION:Immerse yourself in a rejuvenating\, intimate journey designed to empower\, inspire\, and connect. This three-day retreat is a time to refresh your mind\, nurture your spirit\, and celebrate the collective power of women. \nThis is a private event.
URL:https://drcarioneal.com/events/private-event-sisterhood-as-an-act-of-resistance/
CATEGORIES:Dr. Cari Oneal Business,Podcasts,Psychology,Relationships
ATTACH;FMTTYPE=image/jpeg:https://drcarioneal.com/wp-content/uploads/2024/12/IMG_3903E755DFB0-1.jpeg
END:VEVENT
BEGIN:VEVENT
DTSTART;VALUE=DATE:20220804
DTEND;VALUE=DATE:20220902
DTSTAMP:20260419T093007
CREATED:20220805T203612Z
LAST-MODIFIED:20220805T204156Z
UID:2960-1659571200-1662076799@drcarioneal.com
SUMMARY:Swinging Lifestyle For Beginners
DESCRIPTION:Utah-based Sexologist\, Dr. Cari Oneal shares her wealth of knowledge to those who are curious about enhancing their sex lives through exploring Consensual Non-Monogamy. If you are interested in exploring Swinging\, considering going to an event\, or you & your partner are struggling to agree on how you want to play— this podcast is for you! \nHighlights in this episode: \n\nWhen one partner is more interested in non-monogamy and the other is hesitant\nHow Lifestyle education improves your experiences\nSwinging in Utah (& the Ex-Mormon Swinger)\nHistory of non-monogamy & Swinging\nCommon pitfalls for “newbies”\n\nListen on Spotify\nListen on Apple Podcasts
URL:https://drcarioneal.com/events/swinging-lifestyle-for-beginners/
CATEGORIES:Lifestyle,Podcasts
ATTACH;FMTTYPE=image/png:https://drcarioneal.com/wp-content/uploads/2022/08/Screen-Shot-2022-08-03-at-3.18.19-PM.png
END:VEVENT
BEGIN:VEVENT
DTSTART;VALUE=DATE:20211208
DTEND;VALUE=DATE:20220109
DTSTAMP:20260419T093007
CREATED:20211208T171630Z
LAST-MODIFIED:20211228T000514Z
UID:2743-1638921600-1641686399@drcarioneal.com
SUMMARY:Topless Travel— Great Sex on the High Seas!
DESCRIPTION:Sexy fun on a Lifestyle Cruise!\nEver wondered what it’s like to go on a Lifestyle Cruise with 4\,000+ sexy swingers ready to play? Feed your curiosity with this podcast. \nFinally… The Bliss Cruise set sail again – after 3 consecutive canceled sailings since April 2020\, the lifestyle full-ship take-over of the Royal Caribbean’s largest ship\, Oasis of The Seas\, was the long-awaited event of 2021 for a community anxious to get back into the swing of things. Join us with Sex and Intimacy Coach\, Dr. Cari Oneal and her fiancé\, Tom\, who were aboard the November 2021 Bliss Cruise\, experiencing it for the very first time. While the event is still fresh in their minds\, we get into all the details of their first-hand experiences in the playrooms\, the deck parties\, the sexy costume parades\, sexuality workshops\, and their personal sexual journey\, leading up to this main event. \nListen to the Podcast Episode! \n 
URL:https://drcarioneal.com/events/topless-travel-great-sex-on-the-high-seas/
CATEGORIES:Lifestyle,Podcasts
ATTACH;FMTTYPE=image/jpeg:https://drcarioneal.com/wp-content/uploads/2021/12/Cari-and-Tom-e1638983189617.jpeg
END:VEVENT
BEGIN:VEVENT
DTSTART;VALUE=DATE:20210908
DTEND;VALUE=DATE:20211119
DTSTAMP:20260419T093007
CREATED:20210908T172454Z
LAST-MODIFIED:20220502T195307Z
UID:2616-1631059200-1637279999@drcarioneal.com
SUMMARY:Boomers are exploring alternative sexual lifestyles!
DESCRIPTION:Erotic Lifestyle for Boomers\nIn this episode\, Dr. Cari Oneal and Dr. Patti dive deeply into alternative sexual and erotic lifestyle options for Boomers. This is one spicy topic! As Dr. Cari says\, “There are thousands of 50+ people entering and participating in the Lifestyle (or dreaming about it). The Lifestyle for empty nesters can be like a second chance at youth\, save marriage boredom\, Rx for Dead Bed\, bring interest and new skill sets to stale sexual patterns (yes\, teach old dogs new tricks)\, and really add spice to life marriages that need some revving up”. \nHer online class\, “Sex Positive Event Essentials” is an easy entry to understanding what goes on at sex parties and lifestyle resorts and what’s expected. In this lively interview\, common myths are debunked\, new ideas for fun are presented\, and the scope of erotic/sexual etiquette is well described. \n  \nListen to the Epsiode (20 min)
URL:https://drcarioneal.com/events/erotic-lifestyle-for-boomers/
CATEGORIES:Podcasts,Sex
ATTACH;FMTTYPE=image/png:https://drcarioneal.com/wp-content/uploads/2021/09/Screen-Shot-2021-09-08-at-11.28.49-AM-e1631122186140.png
END:VEVENT
END:VCALENDAR